BEGIN:VCALENDAR
VERSION:2.0
PRODID:-//wp-events-plugin.com//7.2.3.1//EN
BEGIN:VEVENT
UID:1@carmencady.com
DTSTART;TZID=America/Los_Angeles:20210315T000000
DTEND;TZID=America/Los_Angeles:20210315T000000
DTSTAMP:20210320T175255Z
URL:https://carmencady.com/events/supernatural-thrillers-the-police-proced
 ural-and-supernatural-thrillers/
SUMMARY:Supernatural Thrillers: The Police Procedural and Supernatural Thri
 llers
DESCRIPTION:Look for my article in the Mystery and Suspense Magazine https:
 //www.mysteryandsuspense.com/supernatural-procedurals/\n\n
END:VEVENT
BEGIN:VEVENT
UID:2@carmencady.com
DTSTART;TZID=America/Los_Angeles;VALUE=DATE:20220707
DTEND;TZID=America/Los_Angeles;VALUE=DATE:20220708
DTSTAMP:20220313T154125Z
URL:https://carmencady.com/events/blood-codes-launch/
SUMMARY:Blood Codes Launch
DESCRIPTION:It's dark. It's deadly. It's deliciously vampiric.
END:VEVENT
BEGIN:VEVENT
UID:3@carmencady.com
DTSTART;TZID=America/Los_Angeles;VALUE=DATE:20240522
DTEND;TZID=America/Los_Angeles;VALUE=DATE:20240526
DTSTAMP:20240524T133633Z
URL:https://carmencady.com/events/official-launch-of-writing-to-publish-yo
 u-tube-channel/
SUMMARY:Official Launch of Writing to Publish You Tube Channel
DESCRIPTION:Posting Weekly. Check out my Channel!\n\nhttp://www.youtube.com
 /@WritingtoPublish\n\n&nbsp\;
END:VEVENT
BEGIN:VTIMEZONE
TZID:America/Los_Angeles
X-LIC-LOCATION:America/Los_Angeles
BEGIN:DAYLIGHT
DTSTART:20210314T030000
TZOFFSETFROM:-0800
TZOFFSETTO:-0700
TZNAME:PDT
END:DAYLIGHT
BEGIN:STANDARD
DTSTART:20211107T010000
TZOFFSETFROM:-0700
TZOFFSETTO:-0800
TZNAME:PST
END:STANDARD
BEGIN:DAYLIGHT
DTSTART:20220313T030000
TZOFFSETFROM:-0800
TZOFFSETTO:-0700
TZNAME:PDT
END:DAYLIGHT
BEGIN:STANDARD
DTSTART:20221106T010000
TZOFFSETFROM:-0700
TZOFFSETTO:-0800
TZNAME:PST
END:STANDARD
BEGIN:DAYLIGHT
DTSTART:20230312T030000
TZOFFSETFROM:-0800
TZOFFSETTO:-0700
TZNAME:PDT
END:DAYLIGHT
BEGIN:STANDARD
DTSTART:20231105T010000
TZOFFSETFROM:-0700
TZOFFSETTO:-0800
TZNAME:PST
END:STANDARD
BEGIN:DAYLIGHT
DTSTART:20240310T030000
TZOFFSETFROM:-0800
TZOFFSETTO:-0700
TZNAME:PDT
END:DAYLIGHT
END:VTIMEZONE
END:VCALENDAR