BEGIN:VCALENDAR
VERSION:2.0
PRODID:-//Cady Publishing LLC - ECPv6.15.20//NONSGML v1.0//EN
CALSCALE:GREGORIAN
METHOD:PUBLISH
X-ORIGINAL-URL:https://carmencady.com
X-WR-CALDESC:Events for Cady Publishing LLC
REFRESH-INTERVAL;VALUE=DURATION:PT1H
X-Robots-Tag:noindex
X-PUBLISHED-TTL:PT1H
BEGIN:VTIMEZONE
TZID:America/Los_Angeles
BEGIN:DAYLIGHT
TZOFFSETFROM:-0800
TZOFFSETTO:-0700
TZNAME:PDT
DTSTART:20230312T100000
END:DAYLIGHT
BEGIN:STANDARD
TZOFFSETFROM:-0700
TZOFFSETTO:-0800
TZNAME:PST
DTSTART:20231105T090000
END:STANDARD
BEGIN:DAYLIGHT
TZOFFSETFROM:-0800
TZOFFSETTO:-0700
TZNAME:PDT
DTSTART:20240310T100000
END:DAYLIGHT
BEGIN:STANDARD
TZOFFSETFROM:-0700
TZOFFSETTO:-0800
TZNAME:PST
DTSTART:20241103T090000
END:STANDARD
BEGIN:DAYLIGHT
TZOFFSETFROM:-0800
TZOFFSETTO:-0700
TZNAME:PDT
DTSTART:20250309T100000
END:DAYLIGHT
BEGIN:STANDARD
TZOFFSETFROM:-0700
TZOFFSETTO:-0800
TZNAME:PST
DTSTART:20251102T090000
END:STANDARD
END:VTIMEZONE
BEGIN:VTIMEZONE
TZID:UTC
BEGIN:STANDARD
TZOFFSETFROM:+0000
TZOFFSETTO:+0000
TZNAME:UTC
DTSTART:20200101T000000
END:STANDARD
END:VTIMEZONE
BEGIN:VEVENT
DTSTART;TZID=America/Los_Angeles:20240621T150000
DTEND;TZID=America/Los_Angeles:20240621T170000
DTSTAMP:20260423T191217
CREATED:20240614T193147Z
LAST-MODIFIED:20240614T201629Z
UID:2151-1718982000-1718989200@carmencady.com
SUMMARY:Test Event
DESCRIPTION:Event Testing!
URL:https://carmencady.com/event/test-event/
ATTACH;FMTTYPE=image/png:https://carmencady.com/wp-content/uploads/2024/06/Quill-250px.png
END:VEVENT
BEGIN:VEVENT
DTSTART;VALUE=DATE:20220707
DTEND;VALUE=DATE:20220708
DTSTAMP:20260423T191217
CREATED:20220313T154535Z
LAST-MODIFIED:20220313T154535Z
UID:1217-1657152000-1657238399@carmencady.com
SUMMARY:Blood Codes Launch
DESCRIPTION:
URL:https://carmencady.com/event/blood-codes-launch/
END:VEVENT
BEGIN:VEVENT
DTSTART;VALUE=DATE:20211207
DTEND;VALUE=DATE:20211208
DTSTAMP:20260423T191217
CREATED:20210919T160616Z
LAST-MODIFIED:20210919T160616Z
UID:914-1638835200-1638921599@carmencady.com
SUMMARY:A Deadly Game Book Launch
DESCRIPTION:
URL:https://carmencady.com/event/a-deadly-game-book-launch/
END:VEVENT
BEGIN:VEVENT
DTSTART;VALUE=DATE:20210401
DTEND;VALUE=DATE:20210510
DTSTAMP:20260423T191217
CREATED:20210329T194655Z
LAST-MODIFIED:20210329T194655Z
UID:687-1617235200-1620604799@carmencady.com
SUMMARY:BookFunnel Giveaway
DESCRIPTION:Choose from over 30 mystery and suspense books starting April 1\, 2021
URL:https://carmencady.com/event/bookfunnel-giveaway/
END:VEVENT
BEGIN:VEVENT
DTSTART;VALUE=DATE:20210321
DTEND;VALUE=DATE:20210322
DTSTAMP:20260423T191217
CREATED:20201207T190640Z
LAST-MODIFIED:20201207T190819Z
UID:396-1616284800-1616371199@carmencady.com
SUMMARY:TRIPLE M MURDER LAUNCH DATE
DESCRIPTION:
URL:https://carmencady.com/event/triple-m-murder-launch-date/
END:VEVENT
END:VCALENDAR